BEGIN:VCALENDAR
VERSION:2.0
PRODID:-//eventon.com NONSGML v1.0//EN
CALSCALE:GREGORIAN
METHOD:PUBLISH
BEGIN:VEVENT
UID:69e767d1d2050
DTSTAMP:20260421T120433Z
DTSTART:20230907T044500Z
DTEND:20230906T171500Z
LOCATION:
SUMMARY:Lunch and Learn: Outlining and Summarizing
DESCRIPTION:Outlining and Summarizing involves identifying the main ideas a
 nd rendering them in one’s own words. Come along and learn a few ways you
  can use these two powerful instructional strategies with students. TCEA Me
 mbers &#8211; Free Non-members &#8211; $49 (includes 1-year complimentary T
 CEA membership) This interactive\,  free-to-members webinar is available[..
 ]\nhttps://tcea.org/event/lunch-and-learn-outlining-and-summarizing/
URL:https://tcea.org/event/lunch-and-learn-outlining-and-summarizing/
END:VEVENT
END:VCALENDAR