BEGIN:VCALENDAR
VERSION:2.0
PRODID:-//eventon.com NONSGML v1.0//EN
CALSCALE:GREGORIAN
METHOD:PUBLISH
BEGIN:VEVENT
UID:69e8bb9ad3570
DTSTAMP:20260422T121418Z
DTSTART:20231011T164500Z
DTEND:20231011T171500Z
LOCATION:
SUMMARY:Lunch and Learn: Best Staffing to Maintain your Technology Investment
DESCRIPTION:Join Dr. Kari Murphy of Deer Park ISD as she shares her unique 
 organization chart\,  staff compensation\,  and recruiting. These three com
 ponents yield the best support of her district’s technology investment to
  propel student success. TCEA Members &#8211; Free Non-members &#8211; $49 
 (includes 1-year complimentary TCEA membership) This interactive\,  free-to
 -members[..]\nhttps://tcea.org/event/lunch-and-learn-best-staffing-to-maint
 ain-your-technology-investment/
URL:https://tcea.org/event/lunch-and-learn-best-staffing-to-maintain-your-technology-investment/
END:VEVENT
END:VCALENDAR