BEGIN:VCALENDAR
VERSION:2.0
PRODID:-//eventon.com NONSGML v1.0//EN
CALSCALE:GREGORIAN
METHOD:PUBLISH
BEGIN:VEVENT
UID:69e8ba5fe7f82
DTSTAMP:20260422T120903Z
DTSTART:20250108T174500Z
DTEND:20250108T181500Z
LOCATION:
SUMMARY:Lunch and Learn: Ctrl-Alt-Emote: Mastering SEL with Tech
DESCRIPTION:Discover how digital tools can be harnessed to teach essential 
 SEL skills such as self-awareness\,  self-regulation\,  empathy\,  and rela
 tionship building. Learn practical tips\,  resources\,  and examples for in
 tegrating digital tools into your SEL instruction and fostering positive so
 cial-emotional development in students. TCEA Members &#8211; Free Non-membe
 rs &#8211; $49 (includes 1-year[..]\nhttps://tcea.org/event/ctrl-alt-emote-
 mastering-sel-with-tech/
URL:https://tcea.org/event/ctrl-alt-emote-mastering-sel-with-tech/
END:VEVENT
END:VCALENDAR