BEGIN:VCALENDAR
VERSION:2.0
PRODID:-//eventon.com NONSGML v1.0//EN
CALSCALE:GREGORIAN
METHOD:PUBLISH
BEGIN:VEVENT
UID:69e5e5eb65aa2
DTSTAMP:20260420T083803Z
DTSTART:20250115T174500Z
DTEND:20250115T181500Z
LOCATION:
SUMMARY:Lunch and Learn: Meeting Unique Needs: Differentiation Techniques for Educators
DESCRIPTION:Gain insight into the essential techniques of differentiated in
 struction. This webinar will demonstrate how to use assessments\,  adapt co
 ntent\,  and employ technology to address the unique needs of students\,  f
 ostering an environment where all learners can thrive. TCEA Members &#8211;
  Free Non-members &#8211; $49 (includes 1-year complimentary TCEA membershi
 p) This[..]\nhttps://tcea.org/event/meeting-unique-needs-differentiation-te
 chniques-for-educators/
URL:https://tcea.org/event/meeting-unique-needs-differentiation-techniques-for-educators/
END:VEVENT
END:VCALENDAR