BEGIN:VCALENDAR
VERSION:2.0
PRODID:-//eventon.com NONSGML v1.0//EN
CALSCALE:GREGORIAN
METHOD:PUBLISH
BEGIN:VEVENT
UID:69e775d9bdb7e
DTSTAMP:20260421T130425Z
DTSTART:20260311T164500Z
DTEND:20260311T171500Z
LOCATION:
SUMMARY:Lunch and Learn: The AI Games: May the Best Tool Win
DESCRIPTION:Lunch and Learn: The AI Games: May the Best Tool Win TCEA direc
 tors go head-to-head in a friendly AI showdown! Each will share a favorite 
 AI tool and how it can make your work easier or your classroom smarter. Joi
 n us for a fast\,  fun session &#8211; and see which[..]\nhttps://tcea.org/
 event/lunch-and-learn-the-ai-games-may-the-best-tool-win/
URL:https://tcea.org/event/lunch-and-learn-the-ai-games-may-the-best-tool-win/
END:VEVENT
END:VCALENDAR