BEGIN:VCALENDAR
VERSION:2.0
PRODID:-//eventon.com NONSGML v1.0//EN
CALSCALE:GREGORIAN
METHOD:PUBLISH
BEGIN:VEVENT
UID:69e73ca06c4ec
DTSTAMP:20260421T090016Z
DTSTART:20260218T174500Z
DTEND:20260218T181500Z
LOCATION:
SUMMARY:Lunch and Learn: Fostering Creativity with Adobe Express
DESCRIPTION:Lunch and Learn: Fostering Creativity with Adobe Express Discov
 er the creative possibilities with Adobe Express! This session will highlig
 ht simple ways to design engaging content and explore ideas to support crea
 tivity in any learning environment. TCEA Members &#8211; Free Non-members &
 #8211; $49 (includes 1-year complimentary TCEA membership) This interactive
 \,  free-to-members[..]\nhttps://tcea.org/event/lunch-and-learn-fostering-c
 reativity-with-adobe-express/
URL:https://tcea.org/event/lunch-and-learn-fostering-creativity-with-adobe-express/
END:VEVENT
END:VCALENDAR