BEGIN:VCALENDAR
VERSION:2.0
PRODID:-//eventon.com NONSGML v1.0//EN
CALSCALE:GREGORIAN
METHOD:PUBLISH
BEGIN:VEVENT
UID:69eb25e3b134f
DTSTAMP:20260424T081219Z
DTSTART:20250827T164500Z
DTEND:20250827T171500Z
LOCATION:
SUMMARY:Lunch and Learn: Using AI to Support Student Engagement
DESCRIPTION:Lunch and Learn: Using AI to Support Student Engagement Join us
  to learn (and share) how you can use AI to create better and more engaging
  activities for your students. TCEA Members &#8211; Free Non-members &#8211
 ; $49 (includes 1-year complimentary TCEA membership) This interactive\,  f
 ree-to-members webinar is available throughout the[..]\nhttps://tcea.org/ev
 ent/lunch-and-learn-using-ai-to-support-student-engagement/
URL:https://tcea.org/event/lunch-and-learn-using-ai-to-support-student-engagement/
END:VEVENT
END:VCALENDAR