BEGIN:VCALENDAR
VERSION:2.0
PRODID:-//eventon.com NONSGML v1.0//EN
CALSCALE:GREGORIAN
METHOD:PUBLISH
BEGIN:VEVENT
UID:69e8d2674d288
DTSTAMP:20260422T135135Z
DTSTART:20250917T164500Z
DTEND:20250917T171500Z
LOCATION:
SUMMARY:Lunch and Learn: How the Latest Educational Research Should Impact Your Classroom
DESCRIPTION:Lunch and Learn: How the Latest Educational Research Should Imp
 act Your Classroom Discover what the latest research into good teaching and
  learning has to say and how you can implement its best practices for your 
 students or staff. TCEA Members &#8211; Free Non-members &#8211; $49 (inclu
 des 1-year complimentary TCEA membership)[..]\nhttps://tcea.org/event/lunch
 -and-learn-how-the-latest-educational-research-should-impact-your-classroom
 /
URL:https://tcea.org/event/lunch-and-learn-how-the-latest-educational-research-should-impact-your-classroom/
END:VEVENT
END:VCALENDAR