BEGIN:VCALENDAR
VERSION:2.0
PRODID:-//eventon.com NONSGML v1.0//EN
CALSCALE:GREGORIAN
METHOD:PUBLISH
BEGIN:VEVENT
UID:69e7678fab281
DTSTAMP:20260421T120327Z
DTSTART:20260114T174500Z
DTEND:20260114T181500Z
LOCATION:
SUMMARY:Lunch and Learn: Surviving and Thriving at TCEA 2026
DESCRIPTION:Lunch and Learn: Surviving and Thriving at TCEA 2026 TCEA is re
 turning to the Alamo City of San Antonio! Jeannine and Peggy will share str
 ategies to make sure you get the most out of your 2026 TCEA Convention &amp
 ; Exposition experience. Join us to get the inside scoop on surviving[..]\n
 https://tcea.org/event/lunch-and-learn-surviving-and-thriving-at-tcea-2026/
URL:https://tcea.org/event/lunch-and-learn-surviving-and-thriving-at-tcea-2026/
END:VEVENT
END:VCALENDAR