BEGIN:VCALENDAR
VERSION:2.0
PRODID:-//eventon.com NONSGML v1.0//EN
CALSCALE:GREGORIAN
METHOD:PUBLISH
BEGIN:VEVENT
UID:69e75067a89e7
DTSTAMP:20260421T102439Z
DTSTART:20251217T170000Z
DTEND:20251218T055900Z
LOCATION:
SUMMARY:Webinar: TCEA Librarian Community - Stamp Your Passport: A Journey To Media Excellence and Student Success
DESCRIPTION:Get ready to stamp your passport and embark on a dynamic journe
 y toward media excellence and student success! In this inspiring session\, 
  presenter Juli Gilbert of Henry County Schools will guide media specialist
 s and media services coordinators through practical\,  high-impact strategi
 es to elevate their programs. You’ll explore ways to enhance[..]\nhttps:/
 /tcea.org/event/webinar-tcea-librarian-community-stamp-your-passport-a-jour
 ney-to-media-excellence-and-student-success/
URL:https://tcea.org/event/webinar-tcea-librarian-community-stamp-your-passport-a-journey-to-media-excellence-and-student-success/
END:VEVENT
END:VCALENDAR